BEGIN:VCALENDAR
VERSION:2.0
PRODID:-//Seattle Indies - ECPv6.15.20//NONSGML v1.0//EN
CALSCALE:GREGORIAN
METHOD:PUBLISH
X-WR-CALNAME:Seattle Indies
X-ORIGINAL-URL:https://seattleindies.org
X-WR-CALDESC:Events for Seattle Indies
REFRESH-INTERVAL;VALUE=DURATION:PT1H
X-Robots-Tag:noindex
X-PUBLISHED-TTL:PT1H
BEGIN:VTIMEZONE
TZID:America/Denver
BEGIN:DAYLIGHT
TZOFFSETFROM:-0700
TZOFFSETTO:-0600
TZNAME:MDT
DTSTART:20250309T090000
END:DAYLIGHT
BEGIN:STANDARD
TZOFFSETFROM:-0600
TZOFFSETTO:-0700
TZNAME:MST
DTSTART:20251102T080000
END:STANDARD
BEGIN:DAYLIGHT
TZOFFSETFROM:-0700
TZOFFSETTO:-0600
TZNAME:MDT
DTSTART:20260308T090000
END:DAYLIGHT
BEGIN:STANDARD
TZOFFSETFROM:-0600
TZOFFSETTO:-0700
TZNAME:MST
DTSTART:20261101T080000
END:STANDARD
BEGIN:DAYLIGHT
TZOFFSETFROM:-0700
TZOFFSETTO:-0600
TZNAME:MDT
DTSTART:20270314T090000
END:DAYLIGHT
BEGIN:STANDARD
TZOFFSETFROM:-0600
TZOFFSETTO:-0700
TZNAME:MST
DTSTART:20271107T080000
END:STANDARD
END:VTIMEZONE
BEGIN:VTIMEZONE
TZID:America/Los_Angeles
BEGIN:DAYLIGHT
TZOFFSETFROM:-0800
TZOFFSETTO:-0700
TZNAME:PDT
DTSTART:20250309T100000
END:DAYLIGHT
BEGIN:STANDARD
TZOFFSETFROM:-0700
TZOFFSETTO:-0800
TZNAME:PST
DTSTART:20251102T090000
END:STANDARD
BEGIN:DAYLIGHT
TZOFFSETFROM:-0800
TZOFFSETTO:-0700
TZNAME:PDT
DTSTART:20260308T100000
END:DAYLIGHT
BEGIN:STANDARD
TZOFFSETFROM:-0700
TZOFFSETTO:-0800
TZNAME:PST
DTSTART:20261101T090000
END:STANDARD
BEGIN:DAYLIGHT
TZOFFSETFROM:-0800
TZOFFSETTO:-0700
TZNAME:PDT
DTSTART:20270314T100000
END:DAYLIGHT
BEGIN:STANDARD
TZOFFSETFROM:-0700
TZOFFSETTO:-0800
TZNAME:PST
DTSTART:20271107T090000
END:STANDARD
END:VTIMEZONE
BEGIN:VEVENT
DTSTART;TZID=America/Denver:20260423T210000
DTEND;TZID=America/Denver:20260423T230000
DTSTAMP:20260423T004306
CREATED:20260220T001845Z
LAST-MODIFIED:20260423T005624Z
UID:16454-1776978000-1776985200@seattleindies.org
SUMMARY:Seabug Study Hall on Discord
DESCRIPTION:Join others from the Seattle Blender User Group for a lo-fi chill out online study hall. Bring a project\, just chat\, and have a good time with some unstructured project sharing and Q&A. \nThe Discord link occasionally expires and needs to be reset\, so if it doesn’t work for you please leave a comment and we’ll update the link.
URL:https://seattleindies.org/event/seabug-study-hall-on-discord-10/
LOCATION:Online event
CATEGORIES:Meetups
ATTACH;FMTTYPE=image/jpeg:https://seattleindies.org/wp-content/uploads/2026/02/16411_image_highres_530993520.jpeg
END:VEVENT
BEGIN:VEVENT
DTSTART;TZID=America/Los_Angeles:20260423T210000
DTEND;TZID=America/Los_Angeles:20260423T230000
DTSTAMP:20260423T004306
CREATED:20250112T190235Z
LAST-MODIFIED:20250117T003651Z
UID:14392-1776978000-1776985200@seattleindies.org
SUMMARY:Seabug Study Hall on Discord
DESCRIPTION:Join others from the Seattle Blender User Group for a lo-fi chill out online study hall. Bring a project\, just chat\, and have a good time with some unstructured project sharing and Q&A. \nThe Discord link occasionally expires and needs to be reset\, so if it doesn’t work for you please leave a comment and we’ll update the link.
URL:https://seattleindies.org/event/seabug-study-hall-on-discord-67/
LOCATION:Online event
END:VEVENT
BEGIN:VEVENT
DTSTART;TZID=America/Denver:20260425T130000
DTEND;TZID=America/Denver:20260425T183000
DTSTAMP:20260423T004306
CREATED:20260220T001845Z
LAST-MODIFIED:20260423T005624Z
UID:16455-1777122000-1777141800@seattleindies.org
SUMMARY:Indie Co-working Support Group (ISG - IRL)
DESCRIPTION:Curious how to start learning something? Want to chat with someone of another discipline? Need a place to work on a project and share it with others? ISG is a social\, game development focused work group that encourages people of all skill levels and disciplines to come together and collaborate for the benefit of all. \nThis is a great place to begin your game development journey and learn from fellow game creators as they work on their projects. \nBring your laptop and any software you will need to work on your game/art/music. \nHow it Works: \n• Show up\, introduce yourself\, let everyone know what you hope to accomplish \n• Ask for help with anything\, get to know others\, share your projects\, or enjoy the company of others as you work! \n• Share your highs and lows\, high fives all around \n\nHow to find us:\nIt can be kind of hard to find us! We are on the 4th floor of the Armory building. Follow the signs to the restrooms\, and nearby you’ll find the stairs and the elevator. Take one of those to the fourth floor and look for the Seattle Indies banner. \n\nAccessibility information:\nThere is paid street parking all around the neighborhood. There are paid parking garages at 516 Harrison St\, 650 3rd Ave N\, and at the corner of 5th Ave N and Harrison St. The Seattle Center has nearby bus stops serviced by the 1\, 2\, 3\, 4\, 8\, 13\, 15\, 17\, 18\, 19\, 24\, 32\, 33\, D Line\, and the monorail. The venue is listed as wheelchair accessible. The Seattle Center has additional accessibility information available on their website here: http://www.seattlecenter.com/about/accessibility.aspx \nIf you are coming by Light Rail it is best to get off at Westlake Station and then ride the Monorail over to the Seattle Center which drops you off right at the Armory. \n\nSeattle Indies strives to be an inclusive and welcoming community for everyone. By attending our events\, you are agreeing to follow our code of conduct (https://www.seattleindies.org/code-of-conduct/).
URL:https://seattleindies.org/event/indie-co-working-support-group-isg-irl-10/
LOCATION:Academy of Interactive Entertainment\, 305 Harrison St Ste 405\, Seattle\, US
CATEGORIES:Meetups
ATTACH;FMTTYPE=image/jpeg:https://seattleindies.org/wp-content/uploads/2026/02/16414_image_highres_502730118.jpeg
END:VEVENT
BEGIN:VEVENT
DTSTART;TZID=America/Los_Angeles:20260425T130000
DTEND;TZID=America/Los_Angeles:20260425T183000
DTSTAMP:20260423T004306
CREATED:20250112T190235Z
LAST-MODIFIED:20250117T003651Z
UID:14393-1777122000-1777141800@seattleindies.org
SUMMARY:Indie Co-working Support Group (ISG - IRL)
DESCRIPTION:Curious how to start learning something? Want to chat with someone of another discipline? Need a place to work on a project and share it with others? ISG is a social\, game development focused work group that encourages people of all skill levels and disciplines to come together and collaborate for the benefit of all. \nThis is a great place to begin your game development journey and learn from fellow game creators as they work on their projects. \nTo attend\, you must be fully vaccinated (second shot received by October 5th). Note that you will need to bring proof of vaccination (a photo on your phone is okay) and identification. \nBring your laptop and any software you will need to work on your game/art/music. \nHow it Works: \n• Show up\, introduce yourself\, let everyone know what you hope to accomplish \n• Ask for help with anything\, get to know others\, share your projects\, or enjoy the company of others as you work! \n• Share your highs and lows\, high fives all around \n\nHow to find us:\nIt can be kind of hard to find us! We are on the 4th floor of the Armory building. Follow the signs to the restrooms\, and nearby you’ll find the stairs and the elevator. Take one of those to the fourth floor and look for the Seattle Indies banner. \n\nAccessibility information:\nThere is paid street parking all around the neighborhood. There are paid parking garages at 516 Harrison St\, 650 3rd Ave N\, and at the corner of 5th Ave N and Harrison St. The Seattle Center has nearby bus stops serviced by the 1\, 2\, 3\, 4\, 8\, 13\, 15\, 17\, 18\, 19\, 24\, 32\, 33\, D Line\, and the monorail. The venue is listed as wheelchair accessible. The Seattle Center has additional accessibility information available on their website here: http://www.seattlecenter.com/about/accessibility.aspx \nIf you are coming by Light Rail it is best to get off at Westlake Station and then ride the Monorail over to the Seattle Center which drops you off right at the Armory. \n\nSeattle Indies strives to be an inclusive and welcoming community for everyone. By attending our events\, you are agreeing to follow our code of conduct (https://seattleindies.org/code-of-conduct/).
URL:https://seattleindies.org/event/indie-co-working-support-group-isg-irl-67/
LOCATION:Academy of Interactive Entertainment\, 305 Harrison St Ste 405\, Seattle\, US
END:VEVENT
BEGIN:VEVENT
DTSTART;TZID=America/Denver:20260427T173000
DTEND;TZID=America/Denver:20260427T203000
DTSTAMP:20260423T004306
CREATED:20260226T082148Z
LAST-MODIFIED:20260423T005625Z
UID:16965-1777311000-1777321800@seattleindies.org
SUMMARY:Southside Social (In Auburn!)
DESCRIPTION:Come join us every last Monday of every month to chat about games\, game development\, or show off what you’ve been working on! \nThis time\, we will be meeting inside of the Community Convention Center (C3) directly next to Burlington inside the mall.
URL:https://seattleindies.org/event/southside-social-in-auburn-2/
LOCATION:C3 Community Convention Center\, 1101 Outlet Collection Way Auburn\, WA 98001\, Auburn\, WA\, 98001\, US
CATEGORIES:Meetups
ATTACH;FMTTYPE=image/jpeg:https://seattleindies.org/wp-content/uploads/2026/02/16964_image_highres_532919936.jpeg
END:VEVENT
BEGIN:VEVENT
DTSTART;TZID=America/Denver:20260428T183000
DTEND;TZID=America/Denver:20260428T213000
DTSTAMP:20260423T004306
CREATED:20260408T004412Z
LAST-MODIFIED:20260423T005625Z
UID:17439-1777401000-1777411800@seattleindies.org
SUMMARY:Kitsap Social (Bremerton)
DESCRIPTION:Come hang out with the lively Seattle Indies Kitsap bunch! We meet every last Tuesday of the month to talk about making video games and other nerdy stuff. \nNotes:\n– Location is 21+\n– Dogs are welcome\n– Walkable from the Seattle ferry \nEvent image by Candice Kang
URL:https://seattleindies.org/event/kitsap-social-bremerton-2/
LOCATION:Ashley’s Pub\, 409 Pacific Avenue\, Bremerton\, WA\, 98337\, US
CATEGORIES:Meetups
ATTACH;FMTTYPE=image/jpeg:https://seattleindies.org/wp-content/uploads/2026/02/16974_image_highres_532947984.jpeg
END:VEVENT
BEGIN:VEVENT
DTSTART;TZID=America/Denver:20260430T210000
DTEND;TZID=America/Denver:20260430T230000
DTSTAMP:20260423T004306
CREATED:20260220T001846Z
LAST-MODIFIED:20260423T005625Z
UID:16456-1777582800-1777590000@seattleindies.org
SUMMARY:Seabug Study Hall on Discord
DESCRIPTION:Join others from the Seattle Blender User Group for a lo-fi chill out online study hall. Bring a project\, just chat\, and have a good time with some unstructured project sharing and Q&A. \nThe Discord link occasionally expires and needs to be reset\, so if it doesn’t work for you please leave a comment and we’ll update the link.
URL:https://seattleindies.org/event/seabug-study-hall-on-discord-11/
LOCATION:Online event
CATEGORIES:Meetups
ATTACH;FMTTYPE=image/jpeg:https://seattleindies.org/wp-content/uploads/2026/02/16411_image_highres_530993520.jpeg
END:VEVENT
BEGIN:VEVENT
DTSTART;TZID=America/Los_Angeles:20260430T210000
DTEND;TZID=America/Los_Angeles:20260430T230000
DTSTAMP:20260423T004306
CREATED:20250112T190236Z
LAST-MODIFIED:20250117T003651Z
UID:14394-1777582800-1777590000@seattleindies.org
SUMMARY:Seabug Study Hall on Discord
DESCRIPTION:Join others from the Seattle Blender User Group for a lo-fi chill out online study hall. Bring a project\, just chat\, and have a good time with some unstructured project sharing and Q&A. \nThe Discord link occasionally expires and needs to be reset\, so if it doesn’t work for you please leave a comment and we’ll update the link.
URL:https://seattleindies.org/event/seabug-study-hall-on-discord-68/
LOCATION:Online event
END:VEVENT
END:VCALENDAR